BEGIN:VCALENDAR
PRODID:-//Microsoft Corporation//Outlook 12.0 MIMEDIR//EN
VERSION:2.0
CALSCALE:GREGORIAN
BEGIN:VEVENT
UID: b37aaa87-3d5d-42c1-8ade-54a72e982547
SUMMARY:Põhikooli lõpueksam - eesti keel
DTSTAMP:20260421T100000
DTSTART:20260421T100000
DTEND:20260421T110000
LOCATION:Are Kool
DESCRIPTION: <p><strong>Link: </strong>https://are.edu.ee/et/sundmuste-kalender/pohikooli-lopueksam-eesti-keel</p><p><strong>Hind: </strong></p>
STATUS:CONFIRMED
SEQUENCE:3
X-ALT-DESC;FMTTYPE=text/html:<p><strong>Link: </strong>https://are.edu.ee/et/sundmuste-kalender/pohikooli-lopueksam-eesti-keel</p><p><strong>Hind: </strong></p>
X-MICROSOFT-CDO-BUSYSTATUS:OOF
X-MICROSOFT-CDO-IMPORTANCE:1
X-MICROSOFT-DISALLOW-COUNTER:FALSE
X-MS-OLK-ALLOWEXTERNCHECK:TRUE
X-MS-OLK-CONFTYPE:0
X-MICROSOFT-CDO-ALLDAYEVENT:
X-MICROSOFT-MSNCALENDAR-ALLDAYEVENT:
END:VEVENT
END:VCALENDAR