BEGIN:VCALENDAR
PRODID:-//Microsoft Corporation//Outlook 12.0 MIMEDIR//EN
VERSION:2.0
CALSCALE:GREGORIAN
BEGIN:VEVENT
UID: 8a4422aa-67a9-470d-873a-c5dc7e797c81
SUMMARY:Loovtööde konverents Are Huvikeskuses
DTSTAMP:20260506T090000
DTSTART:20260506T090000
DTEND:20260506T160000
LOCATION:Are ANK
DESCRIPTION: <p><strong>Link: </strong>https://are.edu.ee/et/sundmuste-kalender/loovtoode-konverents-are-huvikeskuses</p><p><strong>Hind: </strong></p>
STATUS:CONFIRMED
SEQUENCE:3
X-ALT-DESC;FMTTYPE=text/html:<p><strong>Link: </strong>https://are.edu.ee/et/sundmuste-kalender/loovtoode-konverents-are-huvikeskuses</p><p><strong>Hind: </strong></p>
X-MICROSOFT-CDO-BUSYSTATUS:OOF
X-MICROSOFT-CDO-IMPORTANCE:1
X-MICROSOFT-DISALLOW-COUNTER:FALSE
X-MS-OLK-ALLOWEXTERNCHECK:TRUE
X-MS-OLK-CONFTYPE:0
X-MICROSOFT-CDO-ALLDAYEVENT:
X-MICROSOFT-MSNCALENDAR-ALLDAYEVENT:
END:VEVENT
END:VCALENDAR