BEGIN:VCALENDAR
PRODID:-//Microsoft Corporation//Outlook 12.0 MIMEDIR//EN
VERSION:2.0
CALSCALE:GREGORIAN
BEGIN:VEVENT
UID: bceb80d7-a6fd-4900-8d87-d3b2d25f6a9c
SUMMARY:Cashy finaal Koidula Gümnaasiumis 14.00- 16.00
DTSTAMP:20260407T140000
DTSTART:20260407T140000
DTEND:20260407T160000
LOCATION:Pärnu
DESCRIPTION: <p><strong>Link: </strong>https://are.edu.ee/et/sundmuste-kalender/cashy-finaal-koidula-gumnaasiumis-1400-1600</p><p><strong>Hind: </strong></p>
STATUS:CONFIRMED
SEQUENCE:3
X-ALT-DESC;FMTTYPE=text/html:<p><strong>Link: </strong>https://are.edu.ee/et/sundmuste-kalender/cashy-finaal-koidula-gumnaasiumis-1400-1600</p><p><strong>Hind: </strong></p>
X-MICROSOFT-CDO-BUSYSTATUS:OOF
X-MICROSOFT-CDO-IMPORTANCE:1
X-MICROSOFT-DISALLOW-COUNTER:FALSE
X-MS-OLK-ALLOWEXTERNCHECK:TRUE
X-MS-OLK-CONFTYPE:0
X-MICROSOFT-CDO-ALLDAYEVENT:
X-MICROSOFT-MSNCALENDAR-ALLDAYEVENT:
END:VEVENT
END:VCALENDAR