BEGIN:VCALENDAR
PRODID:-//Microsoft Corporation//Outlook 12.0 MIMEDIR//EN
VERSION:2.0
CALSCALE:GREGORIAN
BEGIN:VEVENT
UID: e59cf40a-899e-4a52-9a50-0069f233bda6
SUMMARY:Vahetundidel "Vaba lava"
DTSTAMP:20260401
DTSTART:20260401
DTEND:20260403
DURATION:P2D
LOCATION:Are Kool
DESCRIPTION: <p><strong>Link: </strong>https://are.edu.ee/et/sundmuste-kalender/vahetundidel-vaba-lava</p><p><strong>Hind: </strong></p>
STATUS:CONFIRMED
SEQUENCE:3
X-ALT-DESC;FMTTYPE=text/html:<p><strong>Link: </strong>https://are.edu.ee/et/sundmuste-kalender/vahetundidel-vaba-lava</p><p><strong>Hind: </strong></p>
X-MICROSOFT-CDO-BUSYSTATUS:OOF
X-MICROSOFT-CDO-IMPORTANCE:1
X-MICROSOFT-DISALLOW-COUNTER:FALSE
X-MS-OLK-ALLOWEXTERNCHECK:TRUE
X-MS-OLK-CONFTYPE:0
X-MICROSOFT-CDO-ALLDAYEVENT:1
X-MICROSOFT-MSNCALENDAR-ALLDAYEVENT:1
END:VEVENT
END:VCALENDAR