BEGIN:VCALENDAR
PRODID:-//Microsoft Corporation//Outlook 12.0 MIMEDIR//EN
VERSION:2.0
CALSCALE:GREGORIAN
BEGIN:VEVENT
UID: 448d2582-2e11-4af5-a1cc-397af84a3c4d
SUMMARY:3. klass Tervise Paradiisis
DTSTAMP:20260421T093000
DTSTART:20260421T093000
DTEND:20260421T153000
LOCATION:Pärnu
DESCRIPTION: <p><strong>Link: </strong>https://are.edu.ee/et/sundmuste-kalender/3-klass-tervise-paradiisis</p><p><strong>Hind: </strong></p>
STATUS:CONFIRMED
SEQUENCE:3
X-ALT-DESC;FMTTYPE=text/html:<p><strong>Link: </strong>https://are.edu.ee/et/sundmuste-kalender/3-klass-tervise-paradiisis</p><p><strong>Hind: </strong></p>
X-MICROSOFT-CDO-BUSYSTATUS:OOF
X-MICROSOFT-CDO-IMPORTANCE:1
X-MICROSOFT-DISALLOW-COUNTER:FALSE
X-MS-OLK-ALLOWEXTERNCHECK:TRUE
X-MS-OLK-CONFTYPE:0
X-MICROSOFT-CDO-ALLDAYEVENT:
X-MICROSOFT-MSNCALENDAR-ALLDAYEVENT:
END:VEVENT
END:VCALENDAR